BEGIN:VCALENDAR
VERSION:2.0
PRODID:-//ChamberMaster//Event Calendar 2.0//EN
METHOD:PUBLISH
X-PUBLISHED-TTL:P3D
REFRESH-INTERVAL:P3D
CALSCALE:GREGORIAN
BEGIN:VEVENT
DTSTART:20181215T013000Z
DTEND:20181222T033000Z
X-MICROSOFT-CDO-ALLDAYEVENT:FALSE
SUMMARY:A Cool Yule
DESCRIPTION:It's that time of year again. "A Cool Yule"\, the TexARTS holiday tradition\, returns for its sixth year! This swingin' cabaret will warm your heart with the songs of Andy Williams\, Elvis\, Frank Sinatra\, Sugarland\, Michael Buble\, Peggy Lee and more! Created by Jarret Mallon and music directed by Susan Finnigan\, this joyous evening of music features your favorite TexARTS stars including: Julie Foster (Trailer Park)\, Amy Nichols (Grease)\, Jarret Mallon (The Best Little... & Trailer Park)\, Jessica O'Brien (Smokey Joe's Cafe)\, Jerome Schoolar (A Closer Walk with Patsy Cline) and more! "A Cool Yule" will remind you how special the holidays - and TexARTS - really are. This year\, join us for a special benefit performance of A Cool Yule. We'll celebrate the season and raise funds for the arts education programs and professional theatre at TexARTS. This semi-formal affair will feature a pre-show silent auction\, beverages\, and an exclusive performance of A Cool Yule! Seating is limited so get your tickets today! Tickets start at $84. A limited number of Sponsorship Cocktail Tables are available. Tickets? Single tickets start at $43. Single tickets are available by calling the TexARTS Box Office at 512-852-9079 x101 or at www.tex-arts.org. All ages welcome. Group rates are available.
X-ALT-DESC;FMTTYPE=text/html:It&#39\;s that time of year again. &quot\;A Cool Yule&quot\;\, the TexARTS holiday tradition\, returns for its sixth year! This swingin&#39\; cabaret will warm your heart with the songs of Andy Williams\, Elvis\, Frank Sinatra\, Sugarland\, Michael Buble\, Peggy Lee and more! Created by Jarret Mallon and music directed by Susan Finnigan\, this joyous evening of music features your favorite TexARTS stars including: Julie Foster (Trailer Park)\, Amy Nichols (Grease)\, Jarret Mallon (The Best Little... &amp\; Trailer Park)\, Jessica O&#39\;Brien (Smokey Joe&#39\;s Cafe)\, Jerome Schoolar (A Closer Walk with Patsy Cline) and more! &quot\;A Cool Yule&quot\; will remind you how special the holidays - and TexARTS - really are. This year\, join us for a special benefit performance of A Cool Yule. We&#39\;ll celebrate the season and raise funds for the arts education programs and professional theatre at TexARTS. This semi-formal affair will feature a pre-show silent auction\, beverages\, and an exclusive performance of A Cool Yule! Seating is limited so get your tickets today! Tickets start at $84. A limited number of Sponsorship Cocktail Tables are available. Tickets? Single tickets start at $43. Single tickets are available by calling the TexARTS Box Office at 512-852-9079 x101 or at www.tex-arts.org. All ages welcome. Group rates are available.
LOCATION:All performances will be held at the intimate Kam & James Morris Theatre at TexARTS' Erin Doherty Studios\, 2300 Lohman's Spur\, Suite #160\, Lakeway\, TX.
UID:e.2123.9771
SEQUENCE:3
DTSTAMP:20260422T055057Z
URL:https://laketravischamberfest.com/events/details/a-cool-yule-12-14-2018-9771
END:VEVENT

END:VCALENDAR
