BEGIN:VCALENDAR
VERSION:2.0
PRODID:-//ChamberMaster//Event Calendar 2.0//EN
METHOD:PUBLISH
X-PUBLISHED-TTL:P3D
REFRESH-INTERVAL:P3D
CALSCALE:GREGORIAN
BEGIN:VEVENT
DTSTART:20191214T000000Z
DTEND:20191221T180000Z
X-MICROSOFT-CDO-ALLDAYEVENT:FALSE
SUMMARY:A Cool Yule
DESCRIPTION:"A Cool Yule\," the swingin' holiday cabaret\, returns for its seventh year! This TexARTS tradition will warm your heart with the timeless classics of Andy Williams\, Elvis\, Frank Sinatra\, Michael Buble\, Peggy Lee and more! This joyous evening of song features your favorite TexARTS stars including: Julie Foster (Trailer Park)\, Jarret Mallon (The Best Little  and Trailer Park)\, Amy Nichols (Xanadu)\, Jessica O'Brian (Smokey Joe's Cafe) and more. "A Cool Yule" will remind you how special the holidays - and TexARTS - really are. Tickets on sale to General Public starting November\, 4th. Get Tickets at tex-arts.org or by phone at 512-852-9079 x101.
X-ALT-DESC;FMTTYPE=text/html:&ldquo\;A Cool Yule\,&rdquo\; the swingin&rsquo\; holiday cabaret\, returns for its seventh year! This TexARTS tradition will warm your heart with the timeless classics of Andy Williams\, Elvis\, Frank Sinatra\, Michael Buble\, Peggy Lee and more! This joyous evening of song features your favorite TexARTS stars including: Julie Foster (Trailer Park)\, Jarret Mallon (The Best Little&hellip\; and Trailer Park)\, Amy Nichols (Xanadu)\, Jessica O&rsquo\;Brian (Smokey Joe&rsquo\;s Cafe) and more. &quot\;A Cool Yule&rdquo\; will remind you how special the holidays - and TexARTS - really are. Tickets on sale to General Public starting November\, 4th. Get Tickets at tex-arts.org or by phone at 512-852-9079 x101.
LOCATION:2300 Lohman's Spur Road Suite 160 Austin\, Texas 78734
UID:e.2123.10019
SEQUENCE:3
DTSTAMP:20260422T225445Z
URL:https://laketravischamberfest.com/events/details/a-cool-yule-12-13-2019-10019
END:VEVENT

END:VCALENDAR
