BEGIN:VCALENDAR
VERSION:2.0
PRODID:-//ChamberMaster//Event Calendar 2.0//EN
METHOD:PUBLISH
X-PUBLISHED-TTL:P3D
REFRESH-INTERVAL:P3D
CALSCALE:GREGORIAN
BEGIN:VEVENT
DTSTART:20191207T170000Z
DTEND:20191215T200000Z
X-MICROSOFT-CDO-ALLDAYEVENT:FALSE
SUMMARY:A Christmas Carol - Reduced\, Reused & Recycled
DESCRIPTION:School's out for the holidays\, but Timmy Cratchit is stuck at Scrooge's Plastic Emporium where his mom labors overtime on a last-minute deadline. Tim and his cousins work on a school project while Mr. Scrooge eavesdrops and learns about the serious environmental problems caused by the plastics his company produces. This new family musical combines the suspense and tradition of the beloved Dickens tale with new hope for the future. All ages will groove to original live music\, dance\, puppets\, and more! Who knows? It may even snow! Enjoy the historic Austin Scottish Rite Theater\, built in 1871 with its newly restored comfy seats and a gorgeously restored starry ceiling! Kids may sit on carpets near the action and meet the actors after the show. Showtimes are Dec 7-15\, Saturday and Sunday\, at 11:00 am and 1:00 pm. Free show parking as available. Metered street parking also nearby. Tickets available online and at the door. Ticket Link: https://bpt.me/4428396
X-ALT-DESC;FMTTYPE=text/html:School&rsquo\;s out for the holidays\, but Timmy Cratchit is stuck at Scrooge&rsquo\;s Plastic Emporium where his mom labors overtime on a last-minute deadline. Tim and his cousins work on a school project while Mr. Scrooge eavesdrops and learns about the serious environmental problems caused by the plastics his company produces. This new family musical combines the suspense and tradition of the beloved Dickens tale with new hope for the future. All ages will groove to original live music\, dance\, puppets\, and more! Who knows? It may even snow! Enjoy the historic Austin Scottish Rite Theater\, built in 1871 with its newly restored comfy seats and a gorgeously restored starry ceiling! Kids may sit on carpets near the action and meet the actors after the show. Showtimes are Dec 7-15\, Saturday and Sunday\, at 11:00 am and 1:00 pm. Free show parking as available. Metered street parking also nearby. Tickets available online and at the door. Ticket Link: https://bpt.me/4428396
LOCATION:Austin Scottish Rite Theater 207 W 18th St. Austin\, TX 78701
UID:e.2123.10026
SEQUENCE:3
DTSTAMP:20260423T003634Z
URL:https://laketravischamberfest.com/events/details/a-christmas-carol-reduced-reused-recycled-10026
END:VEVENT

END:VCALENDAR
