BEGIN:VCALENDAR
VERSION:2.0
PRODID:-//ChamberMaster//Event Calendar 2.0//EN
METHOD:PUBLISH
X-PUBLISHED-TTL:P3D
REFRESH-INTERVAL:P3D
CALSCALE:GREGORIAN
BEGIN:VEVENT
DTSTART:20210823T220000Z
DTEND:20211002T223000Z
X-MICROSOFT-CDO-ALLDAYEVENT:FALSE
SUMMARY:6 Week Musical Theater Workshops: Descendants & Greatest Showman
DESCRIPTION:TexARTS' popular "Best of" series becomes a weekly class! This six week session is a fun foray into the world of theater. Students will act\, sing\, dance\, and features content from one of your favorite musicals! Classes are 45 minutes on Thursdays from 5:00-5:45pm and are led by professional teaching artists from throughout the Austin area. This session beginning will feature songs\, dances\, and scenes from your choice of either Descendants or Greatest Showman and runs from August 23rd through October 2nd. Tuition is $120.00 for the full six weeks and is due in full upon enrollment. Ages 6-10. For more information or to enroll please visit www.tex-arts.org or call (512) 852-9079 x104.
X-ALT-DESC;FMTTYPE=text/html:TexARTS&#39\; popular &quot\;Best of&quot\; series becomes a weekly class! This six week session is a fun foray into the world of theater. Students will act\, sing\, dance\, and features content from one of your favorite musicals! Classes are 45 minutes on Thursdays from 5:00-5:45pm and are led by professional teaching artists from throughout the Austin area. This session beginning will feature songs\, dances\, and scenes from your choice of either Descendants or Greatest Showman and runs from August 23rd through October 2nd. Tuition is $120.00 for the full six weeks and is due in full upon enrollment. Ages 6-10. For more information or to enroll please visit www.tex-arts.org or call (512) 852-9079 x104.
LOCATION:TexARTS Association 2300 Lohman's Spur STE 160 Austin\, TX 78734
UID:e.2123.10913
SEQUENCE:3
DTSTAMP:20260424T041606Z
URL:https://laketravischamberfest.com/events/details/6-week-musical-theater-workshops-descendants-greatest-showman-10913
END:VEVENT

END:VCALENDAR
