BEGIN:VCALENDAR
VERSION:2.0
PRODID:-//ChamberMaster//Event Calendar 2.0//EN
METHOD:PUBLISH
X-PUBLISHED-TTL:P3D
REFRESH-INTERVAL:P3D
CALSCALE:GREGORIAN
BEGIN:VEVENT
DTSTART:20240928T003000Z
DTEND:20240928T023000Z
X-MICROSOFT-CDO-ALLDAYEVENT:FALSE
SUMMARY:5 Course Wine Pairing Dinner Featuring Cakebread Cellars
DESCRIPTION:Join us for our 1st of Monthly 5 Course Wine Pairing Dinner\n\nChef Jennifer Norrell has thoughtfully curated a wonderful dining experience to pair with Cakebread Cellars Wines.\n\nBook today on Open table or contact us directly to save your spot. Seating is Limited and filling fast!\n\nPhone: (512)-261-7324\n\nEmail: Foodandbeverage@lakewayresortandspa.com
X-ALT-DESC;FMTTYPE=text/html:<div style="text-align:center"><span style="font-size:18px"><strong>Join us for our 1st of Monthly 5 Course Wine Pairing Dinner</strong></span><br />\n<strong>Chef Jennifer Norrell has thoughtfully curated a wonderful dining experience to pair with Cakebread Cellars Wines.<br />\nBook today on Open table or contact us directly to save your spot. Seating is Limited and filling fast!</strong><br />\n<em>Phone: (512)-261-7324<br />\nEmail: Foodandbeverage@lakewayresortandspa.com</em></div>\n
LOCATION:TR Restaurant & Bar located at Lakeway Resort & Spa 101 Lakeway Dr. Austin\, Texas 78734
UID:e.2123.12731
SEQUENCE:3
DTSTAMP:20260422T055447Z
URL:https://laketravischamberfest.com/events/details/5-course-wine-pairing-dinner-featuring-cakebread-cellars-12731
END:VEVENT

END:VCALENDAR
