BEGIN:VCALENDAR
VERSION:2.0
PRODID:-//ChamberMaster//Event Calendar 2.0//EN
METHOD:PUBLISH
X-PUBLISHED-TTL:P3D
REFRESH-INTERVAL:P3D
CALSCALE:GREGORIAN
BEGIN:VEVENT
DTSTART:20240428T190000Z
DTEND:20240428T230000Z
X-MICROSOFT-CDO-ALLDAYEVENT:FALSE
SUMMARY:3rd Annual Abbey's Concert at the Ranch
DESCRIPTION:https://onecau.se/abbeyconcert\n\n\n\nThe Abigail E. Keller Foundation presents The Derailers at The Famous Star Hill Ranch located at 15000 Hamilton Road Austin\,Texas.\n\nGate opens at 2:00 pm\, concert begins at 4:00.\n\nFood and Drinks will be available for purchase.\n\nKids entertainment will include face painting and a balloon twister.\n\nThe Elite Corvette Car Club will be on-site\, showcasing cars. \n\nAbout the Abigail E. Keller Foundation\n\nThe Abigail E. Keller Foundation was started by Abbey's parents\, Melissa and Travis\, in loving memory of Abbey in 2019. The Foundation contributes to the community by helping medically fragile children and their families by providing resources to programs that support these families throughout their unique journey. These families seek friendship\, support\, guidance\, resources\, and more as they navigate life with medical and physical challenges.
X-ALT-DESC;FMTTYPE=text/html:<!-- x-tinymce/html -->\n<p><strong><a href="https://onecau.se/abbeyconcert">https://onecau.se/abbeyconcert</a><br />\n<br />\nThe Abigail E. Keller Foundation presents The Derailers a</strong><strong>t The Famous Star Hill Ranch located at 15000 Hamilton Road Austin\,Texas.</strong></p>\n\n<p><strong>Gate opens at 2:00 pm\, concert begins at 4:00.</strong></p>\n\n<p><strong>Food and Drinks will be available for purchase.</strong></p>\n\n<p><strong>Kids entertainment will include face painting and a balloon twister.</strong></p>\n\n<p><strong>The Elite Corvette Car Club will be on-site\, showcasing cars.&nbsp\;</strong></p>\n\n<p><em><strong>About the Abigail E. Keller Foundation</strong></em></p>\n\n<p><em>The Abigail E. Keller Foundation was started by Abbey&#39\;s parents\, Melissa and Travis\, in loving memory of Abbey in 2019. The Foundation contributes to the community by helping medically fragile children and their families by providing resources to programs that support these families throughout their unique journey. These families seek friendship\, support\, guidance\, resources\, and more as they navigate life with medical and physical challenges.</em></p>\n
LOCATION:Star Hill Ranch 15000 Hamilton Pool Rd Bee Cave\, Texas 78738
UID:e.2123.12710
SEQUENCE:3
DTSTAMP:20260422T133214Z
URL:https://laketravischamberfest.com/events/details/3rd-annual-abbey-s-concert-at-the-ranch-12710
END:VEVENT

END:VCALENDAR
