BEGIN:VCALENDAR
VERSION:2.0
PRODID:-//ChamberMaster//Event Calendar 2.0//EN
METHOD:PUBLISH
X-PUBLISHED-TTL:P3D
REFRESH-INTERVAL:P3D
CALSCALE:GREGORIAN
BEGIN:VEVENT
DTSTART:20190202T160000Z
DTEND:20190203T170000Z
X-MICROSOFT-CDO-ALLDAYEVENT:FALSE
SUMMARY:123 Andrés Bilingual Concert for Kids
DESCRIPTION:Kids and families will rock out to the beautiful\, bilingual sounds of 123 Andr s\, Latin Grammy Award Winner for Best Children's Album. This interactive concert for little language learners is the perfect morning out for kids and families. Children sit on carpets close to the action while grown-ups enjoy the comfort of the historic Austin Scottish Rite Theater. Andr s and Christina\, better known as 123 Andr s\, are the new face of Latinx music for families in the US and Latin America. They are known for bringing joyful sounds\, passion for bilingualism and a high-energy love of music that gets kids singing and dancing in Spanish and English.
X-ALT-DESC;FMTTYPE=text/html:Kids and families will rock out to the beautiful\, bilingual sounds of 123 Andr&eacute\;s\, Latin Grammy Award Winner for Best Children&#39\;s Album. This interactive concert for little language learners is the perfect morning out for kids and families. Children sit on carpets close to the action while grown-ups enjoy the comfort of the historic Austin Scottish Rite Theater. Andr&eacute\;s and Christina\, better known as 123 Andr&eacute\;s\, are the new face of Latinx music for families in the US and Latin America. They are known for bringing joyful sounds\, passion for bilingualism and a high-energy love of music that gets kids singing and dancing in Spanish and English.
LOCATION:Austin Scottish Rite Theater 207 W 18th St.\, Austin\, TX 78701
UID:e.2123.9805
SEQUENCE:3
DTSTAMP:20260422T072545Z
URL:https://laketravischamberfest.com/events/details/123-andr&#233;s-bilingual-concert-for-kids-9805
END:VEVENT

END:VCALENDAR
