BEGIN:VCALENDAR
VERSION:2.0
PRODID:-//ChamberMaster//Event Calendar 2.0//EN
METHOD:PUBLISH
X-PUBLISHED-TTL:P3D
REFRESH-INTERVAL:P3D
CALSCALE:GREGORIAN
BEGIN:VEVENT
DTSTART:20180925T153000Z
DTEND:20180925T163000Z
X-MICROSOFT-CDO-ALLDAYEVENT:FALSE
SUMMARY:10 Ways to Discipline Your Kids Without Controlling Them
DESCRIPTION:10 Ways to Discipline Your Kids Without Controlling Them - Tuesday\, September 25th at 10:30am - Learn ten positive parenting strategies and how to implement them from Licensed Professional Counselor Shanaz Ikonne.
X-ALT-DESC;FMTTYPE=text/html:10 Ways to Discipline Your Kids Without Controlling Them - Tuesday\, September 25th at 10:30am - Learn ten positive parenting strategies and how to implement them from Licensed Professional Counselor Shanaz Ikonne.
LOCATION:Lake Travis Community Library 1938 Lohmans Crossing Austin\, Texas 78734
UID:e.2123.9701
SEQUENCE:3
DTSTAMP:20260422T011040Z
URL:https://laketravischamberfest.com/events/details/10-ways-to-discipline-your-kids-without-controlling-them-09-25-2018-9701
END:VEVENT

END:VCALENDAR
